BEGIN:VCALENDAR
VERSION:2.0
PRODID:-//ATI Vancouver - ECPv6.15.16//NONSGML v1.0//EN
CALSCALE:GREGORIAN
METHOD:PUBLISH
X-WR-CALNAME:ATI Vancouver
X-ORIGINAL-URL:https://ativancouver.ca
X-WR-CALDESC:Events for ATI Vancouver
REFRESH-INTERVAL;VALUE=DURATION:PT1H
X-Robots-Tag:noindex
X-PUBLISHED-TTL:PT1H
BEGIN:VTIMEZONE
TZID:America/Vancouver
BEGIN:DAYLIGHT
TZOFFSETFROM:-0800
TZOFFSETTO:-0700
TZNAME:PDT
DTSTART:20220313T100000
END:DAYLIGHT
BEGIN:STANDARD
TZOFFSETFROM:-0700
TZOFFSETTO:-0800
TZNAME:PST
DTSTART:20221106T090000
END:STANDARD
BEGIN:DAYLIGHT
TZOFFSETFROM:-0800
TZOFFSETTO:-0700
TZNAME:PDT
DTSTART:20230312T100000
END:DAYLIGHT
BEGIN:STANDARD
TZOFFSETFROM:-0700
TZOFFSETTO:-0800
TZNAME:PST
DTSTART:20231105T090000
END:STANDARD
BEGIN:DAYLIGHT
TZOFFSETFROM:-0800
TZOFFSETTO:-0700
TZNAME:PDT
DTSTART:20240310T100000
END:DAYLIGHT
BEGIN:STANDARD
TZOFFSETFROM:-0700
TZOFFSETTO:-0800
TZNAME:PST
DTSTART:20241103T090000
END:STANDARD
END:VTIMEZONE
BEGIN:VEVENT
DTSTART;TZID=America/Vancouver:20231203T150000
DTEND;TZID=America/Vancouver:20231203T170000
DTSTAMP:20260421T025643
CREATED:20231113T220836Z
LAST-MODIFIED:20231120T042220Z
UID:5645-1701615600-1701622800@ativancouver.ca
SUMMARY:Sangeet Nritya Sajeevana - An Evening of Vibrant Indian Music & Dance
DESCRIPTION:Join India Cultural Association (ICA) Of Vancouver\, MSBC\, & Neeraja Aptikar on December 3\, 2023 for an evening of authentic Indian Music & Dance by well known local artists of Vancouver. \nFollowing local well known artists of Metro Vancouver are going to perform at this event. \nNeeraja Aptikar – Hindustani Vocals\nSunny Matharu – Tabla\nMohan Bhide – Harmonium\nPrajakta Trehan – Kathak Performance\nSujit Vaidya – Bharatanatyam \nSangeet Nritya Sajeevana – An Evening of Soulful Music & Dance\nBuy Tickets Online
URL:https://ativancouver.ca/event/sangeet-nritya-sajeevana-an-evening-of-vibrant-indian-music-dance/
LOCATION:Anvil Centre\, New Westminster\, 777 Columbia Street\, New Westminster\, BC\, V3M 1B6\, Canada
CATEGORIES:Community,Music,Performing & Visual Arts
ATTACH;FMTTYPE=image/jpeg:https://ativancouver.ca/wp-content/uploads/2023/11/sangeet-nritya-sajeevana-indian-music-dance-vancouver.jpeg
ORGANIZER;CN="ICA Vancouver - India Cultural Association":MAILTO:info@icavancouver.ca
END:VEVENT
END:VCALENDAR