BEGIN:VCALENDAR
VERSION:2.0
PRODID:-//ATI Vancouver - ECPv6.15.16//NONSGML v1.0//EN
CALSCALE:GREGORIAN
METHOD:PUBLISH
X-WR-CALNAME:ATI Vancouver
X-ORIGINAL-URL:https://ativancouver.ca
X-WR-CALDESC:Events for ATI Vancouver
REFRESH-INTERVAL;VALUE=DURATION:PT1H
X-Robots-Tag:noindex
X-PUBLISHED-TTL:PT1H
BEGIN:VTIMEZONE
TZID:America/Vancouver
BEGIN:DAYLIGHT
TZOFFSETFROM:-0800
TZOFFSETTO:-0700
TZNAME:PDT
DTSTART:20240310T100000
END:DAYLIGHT
BEGIN:STANDARD
TZOFFSETFROM:-0700
TZOFFSETTO:-0800
TZNAME:PST
DTSTART:20241103T090000
END:STANDARD
BEGIN:DAYLIGHT
TZOFFSETFROM:-0800
TZOFFSETTO:-0700
TZNAME:PDT
DTSTART:20250309T100000
END:DAYLIGHT
BEGIN:STANDARD
TZOFFSETFROM:-0700
TZOFFSETTO:-0800
TZNAME:PST
DTSTART:20251102T090000
END:STANDARD
BEGIN:DAYLIGHT
TZOFFSETFROM:-0800
TZOFFSETTO:-0700
TZNAME:PDT
DTSTART:20260308T100000
END:DAYLIGHT
BEGIN:STANDARD
TZOFFSETFROM:-0700
TZOFFSETTO:-0800
TZNAME:PST
DTSTART:20261101T090000
END:STANDARD
END:VTIMEZONE
BEGIN:VEVENT
DTSTART;TZID=America/Vancouver:20251011T183000
DTEND;TZID=America/Vancouver:20251011T213000
DTSTAMP:20260424T203342
CREATED:20250731T022733Z
LAST-MODIFIED:20251009T192102Z
UID:10095-1760207400-1760218200@ativancouver.ca
SUMMARY:Rangtaali - Garba & Dandiya Night – Port Coquitlam (PoCo) - SOLD OUT!!!
DESCRIPTION:Indians in Tri-Cities and Burnaby\, get ready to celebrate the festive season with colors\, rhythm\, and joy at Rangtaali Dandiya Night\, proudly presented by PTdance Company and supported by ATI Vancouver. \nDate: Saturday\, October 11\, 2025\nTime: 6:30 PM to 9:30 PM\nVenue: Port Coquitlam Community Centre (Mabbett Hall)\nAddress: 2150 Wilson Ave\, Port Coquitlam\, BC \nFree Underground Parking Available \nJoin us for an unforgettable evening of Dandiya\, Garba\, and Desi beats\, perfect for the whole family! Dress in your traditional best and bring your dance spirit! \nRangtaali Garba Night Event by PTDance Company in Port Coquitlam (PoCo) is now SOLD OUT\nTickets: $20\nKids under 10 enter FREE\nInterac/Email for Tickets: ptdancecompany@gmail.com \nCommunity Partner: ATI – All Things Indian in Vancouver\nContact Preeti: +1 (236) 867-5531 \nSponsorship opportunities available – support the community & cultural events while gaining visibility.
URL:https://ativancouver.ca/event/rangtaali-dandiya-night-port-coquitlam/
LOCATION:Port Coquitlam Community Centre (Mabbett Hall)\, 2150 Wilson Ave\, Port Coquitlam\, BC\, V3C 6J5\, Canada
CATEGORIES:Community,Performing & Visual Arts
ATTACH;FMTTYPE=image/jpeg:https://ativancouver.ca/wp-content/uploads/2025/07/rangtaali-dandiya-night-port-coquitlam.jpg
ORGANIZER;CN="PT Dance Company%2C Port Coquitlam":MAILTO:ptdancecompany@gmail.com
END:VEVENT
END:VCALENDAR