BEGIN:VCALENDAR
VERSION:2.0
PRODID:-//ATI Vancouver - ECPv6.15.16//NONSGML v1.0//EN
CALSCALE:GREGORIAN
METHOD:PUBLISH
X-WR-CALNAME:ATI Vancouver
X-ORIGINAL-URL:https://ativancouver.ca
X-WR-CALDESC:Events for ATI Vancouver
REFRESH-INTERVAL;VALUE=DURATION:PT1H
X-Robots-Tag:noindex
X-PUBLISHED-TTL:PT1H
BEGIN:VTIMEZONE
TZID:America/Vancouver
BEGIN:DAYLIGHT
TZOFFSETFROM:-0800
TZOFFSETTO:-0700
TZNAME:PDT
DTSTART:20210314T100000
END:DAYLIGHT
BEGIN:STANDARD
TZOFFSETFROM:-0700
TZOFFSETTO:-0800
TZNAME:PST
DTSTART:20211107T090000
END:STANDARD
BEGIN:DAYLIGHT
TZOFFSETFROM:-0800
TZOFFSETTO:-0700
TZNAME:PDT
DTSTART:20220313T100000
END:DAYLIGHT
BEGIN:STANDARD
TZOFFSETFROM:-0700
TZOFFSETTO:-0800
TZNAME:PST
DTSTART:20221106T090000
END:STANDARD
BEGIN:DAYLIGHT
TZOFFSETFROM:-0800
TZOFFSETTO:-0700
TZNAME:PDT
DTSTART:20230312T100000
END:DAYLIGHT
BEGIN:STANDARD
TZOFFSETFROM:-0700
TZOFFSETTO:-0800
TZNAME:PST
DTSTART:20231105T090000
END:STANDARD
END:VTIMEZONE
BEGIN:VEVENT
DTSTART;TZID=America/Vancouver:20221112T110000
DTEND;TZID=America/Vancouver:20221112T140000
DTSTAMP:20260424T093342
CREATED:20221101T052135Z
LAST-MODIFIED:20221101T052135Z
UID:2375-1668250800-1668261600@ativancouver.ca
SUMMARY:Poetry Bash | Kavi Darbaar
DESCRIPTION:This is a poetry reading event celebrating all types of poetry\, in all Indian languages\, by established as well as emerging Indian poets residing in Greater Vancouver area. One of the chief purposes of the event is to bring the Indian community together and encourage people to share their poetic talents. The event is organized under the auspices of Lakshmi Narayan Mandir\, Surrey\, BC.
URL:https://ativancouver.ca/event/poetry-bash-kavi-darbaar/
LOCATION:Laxmi Narayan Mandir\, 8321 140 Street\, Surrey\, British Columbia\, V3W5K9\, Canada
CATEGORIES:Community
ATTACH;FMTTYPE=image/jpeg:https://ativancouver.ca/wp-content/uploads/2022/10/312430212_1097710650949376_1847118748110298974_n.jpg
END:VEVENT
END:VCALENDAR