BEGIN:VCALENDAR
VERSION:2.0
PRODID:-//ATI Vancouver - ECPv6.15.16//NONSGML v1.0//EN
CALSCALE:GREGORIAN
METHOD:PUBLISH
X-WR-CALNAME:ATI Vancouver
X-ORIGINAL-URL:https://ativancouver.ca
X-WR-CALDESC:Events for ATI Vancouver
REFRESH-INTERVAL;VALUE=DURATION:PT1H
X-Robots-Tag:noindex
X-PUBLISHED-TTL:PT1H
BEGIN:VTIMEZONE
TZID:America/Vancouver
BEGIN:DAYLIGHT
TZOFFSETFROM:-0800
TZOFFSETTO:-0700
TZNAME:PDT
DTSTART:20220313T100000
END:DAYLIGHT
BEGIN:STANDARD
TZOFFSETFROM:-0700
TZOFFSETTO:-0800
TZNAME:PST
DTSTART:20221106T090000
END:STANDARD
BEGIN:DAYLIGHT
TZOFFSETFROM:-0800
TZOFFSETTO:-0700
TZNAME:PDT
DTSTART:20230312T100000
END:DAYLIGHT
BEGIN:STANDARD
TZOFFSETFROM:-0700
TZOFFSETTO:-0800
TZNAME:PST
DTSTART:20231105T090000
END:STANDARD
BEGIN:DAYLIGHT
TZOFFSETFROM:-0800
TZOFFSETTO:-0700
TZNAME:PDT
DTSTART:20240310T100000
END:DAYLIGHT
BEGIN:STANDARD
TZOFFSETFROM:-0700
TZOFFSETTO:-0800
TZNAME:PST
DTSTART:20241103T090000
END:STANDARD
END:VTIMEZONE
BEGIN:VEVENT
DTSTART;TZID=America/Vancouver:20231209T150000
DTEND;TZID=America/Vancouver:20231209T170000
DTSTAMP:20260419T110154
CREATED:20231119T081755Z
LAST-MODIFIED:20231119T083007Z
UID:5689-1702134000-1702141200@ativancouver.ca
SUMMARY:Music\, Musings & Meditation by Heartfulness Institute Vancouver
DESCRIPTION:Come join us on December 9th\, Saturday\, 3 – 5 pm\, for an engaging event full of Love and Light as we celebrate the launch of Spiritual Anatomy – the latest masterpiece by renowned author and global Guide of Heartfulness Institute\, Kamlesh D. Patel\, also known as Daaji. \nThis evening of Music\, Musings and Meditation promises to be a memorable gathering of wellness enthusiasts\, mental health advocates\, spiritual seekers\, yoga practitioners\, and book lovers! \nFeaturing thought provoking conversations\, Spiritual Anatomy book unveiling\, a musical performance\, a guided meditation session led by a Heartfulness Trainer. \nOur esteemed guests for the event are : \n\nRenowned Dr. James R. Doty\, neuroscientist\, compassion leader & author\nNeeraja Aptikar\, Hindustani Vocalist\, a performer\, trained in Classical\, Semi Classical and Light Music in many languages\nPandit Prameya Chaitanya ji\, Acharya\, Mahalaxmi Temple\nRuth Lamb\, author of “Human Becoming: A Guide to Soul-Centered Living” & many more\nMr. Gaurav Bhutani\, General Manager\, Darpan Magazine\, Vancouver\n\n“Spiritual Anatomy” Book Launch by Heartfulness Meditation Institute\, Vancouver\, BC\, Canada\nThere will be tea and refreshments with an opportunity to network with other attendees. Register today to grab a spot and a copy of Spiritual Anatomy for you and your loved ones \nCome and celebrate the discovery of your inner self and start your Inventure (inner-adventure) with Spiritual Anatomy.
URL:https://ativancouver.ca/event/music-musings-meditation-by-heartfulness-institute-vancouver/
LOCATION:Unity of Vancouver\, 5840 Oak Street\, Vancouver\, BC\, V6M 2V9\, Canada
CATEGORIES:Community,Information Session,Music
ATTACH;FMTTYPE=image/jpeg:https://ativancouver.ca/wp-content/uploads/2023/11/heartfulness-meditation-vancouver-book-launch.jpg
ORGANIZER;CN="Heartulness Meditation Vancouver":MAILTO:vancouver.bc@heartfulness.org
END:VEVENT
END:VCALENDAR