BEGIN:VCALENDAR
VERSION:2.0
PRODID:-//ATI Vancouver - ECPv6.15.16//NONSGML v1.0//EN
CALSCALE:GREGORIAN
METHOD:PUBLISH
X-WR-CALNAME:ATI Vancouver
X-ORIGINAL-URL:https://ativancouver.ca
X-WR-CALDESC:Events for ATI Vancouver
REFRESH-INTERVAL;VALUE=DURATION:PT1H
X-Robots-Tag:noindex
X-PUBLISHED-TTL:PT1H
BEGIN:VTIMEZONE
TZID:America/Vancouver
BEGIN:DAYLIGHT
TZOFFSETFROM:-0800
TZOFFSETTO:-0700
TZNAME:PDT
DTSTART:20220313T100000
END:DAYLIGHT
BEGIN:STANDARD
TZOFFSETFROM:-0700
TZOFFSETTO:-0800
TZNAME:PST
DTSTART:20221106T090000
END:STANDARD
BEGIN:DAYLIGHT
TZOFFSETFROM:-0800
TZOFFSETTO:-0700
TZNAME:PDT
DTSTART:20230312T100000
END:DAYLIGHT
BEGIN:STANDARD
TZOFFSETFROM:-0700
TZOFFSETTO:-0800
TZNAME:PST
DTSTART:20231105T090000
END:STANDARD
BEGIN:DAYLIGHT
TZOFFSETFROM:-0800
TZOFFSETTO:-0700
TZNAME:PDT
DTSTART:20240310T100000
END:DAYLIGHT
BEGIN:STANDARD
TZOFFSETFROM:-0700
TZOFFSETTO:-0800
TZNAME:PST
DTSTART:20241103T090000
END:STANDARD
END:VTIMEZONE
BEGIN:VEVENT
DTSTART;TZID=America/Vancouver:20230514T103000
DTEND;TZID=America/Vancouver:20230514T123000
DTSTAMP:20260419T160850
CREATED:20230417T001125Z
LAST-MODIFIED:20230417T001504Z
UID:4311-1684060200-1684067400@ativancouver.ca
SUMMARY:Mothers Day Celebration by Manasvini
DESCRIPTION:Manasvini invites all to celebrate Mothers Day with poetry\, songs\, and stories\nArt exhibition by Geeta Sharma\nFree Event at the Laxmi Narayan Mandir in Surrey\nFamily event\nEveryone is welcome
URL:https://ativancouver.ca/event/mothers-day-celebration-by-manasvini/
LOCATION:Laxmi Narayan Mandir\, 8321 140 Street\, Surrey\, British Columbia\, V3W5K9\, Canada
CATEGORIES:Community
ATTACH;FMTTYPE=image/jpeg:https://ativancouver.ca/wp-content/uploads/2023/04/manasvini-flyer.jpg
ORGANIZER;CN="Manasvini Hindi Cultural Society":MAILTO:manasviniof2021@gmail.com
END:VEVENT
END:VCALENDAR