BEGIN:VCALENDAR
VERSION:2.0
PRODID:-//ATI Vancouver - ECPv6.15.16//NONSGML v1.0//EN
CALSCALE:GREGORIAN
METHOD:PUBLISH
X-WR-CALNAME:ATI Vancouver
X-ORIGINAL-URL:https://ativancouver.ca
X-WR-CALDESC:Events for ATI Vancouver
REFRESH-INTERVAL;VALUE=DURATION:PT1H
X-Robots-Tag:noindex
X-PUBLISHED-TTL:PT1H
BEGIN:VTIMEZONE
TZID:America/Vancouver
BEGIN:DAYLIGHT
TZOFFSETFROM:-0800
TZOFFSETTO:-0700
TZNAME:PDT
DTSTART:20210314T100000
END:DAYLIGHT
BEGIN:STANDARD
TZOFFSETFROM:-0700
TZOFFSETTO:-0800
TZNAME:PST
DTSTART:20211107T090000
END:STANDARD
BEGIN:DAYLIGHT
TZOFFSETFROM:-0800
TZOFFSETTO:-0700
TZNAME:PDT
DTSTART:20220313T100000
END:DAYLIGHT
BEGIN:STANDARD
TZOFFSETFROM:-0700
TZOFFSETTO:-0800
TZNAME:PST
DTSTART:20221106T090000
END:STANDARD
BEGIN:DAYLIGHT
TZOFFSETFROM:-0800
TZOFFSETTO:-0700
TZNAME:PDT
DTSTART:20230312T100000
END:DAYLIGHT
BEGIN:STANDARD
TZOFFSETFROM:-0700
TZOFFSETTO:-0800
TZNAME:PST
DTSTART:20231105T090000
END:STANDARD
END:VTIMEZONE
BEGIN:VEVENT
DTSTART;TZID=America/Vancouver:20221126T120000
DTEND;TZID=America/Vancouver:20221127T190000
DTSTAMP:20260419T223503
CREATED:20221117T213528Z
LAST-MODIFIED:20221117T213528Z
UID:2635-1669464000-1669575600@ativancouver.ca
SUMMARY:Maple Leaf - Downtown Weddings & Winter Special Exhibition
DESCRIPTION:20+ BRANDS PARTICIPATING FOR FASHION | LIFESTYLE | APPARELS | CHARISTMAS SPECIAL | WEDDING SPECIAL | ACCESSORIES | HOME DECOR | HOME FURNISHING | FOOTWEAR | ARTEFACTS | FOOTWEAR | JEWELLERY & MUCH MORE…….
URL:https://ativancouver.ca/event/maple-leaf-downtown-weddings-winter-special-exhibition/
LOCATION:HOTEL SHERATON\, 15269 104 Ave\, Surrey\, BC V3R 1N5\, Canada\, SURREY\, VANCOUVER\, V3R 1N5\, Canada
CATEGORIES:Business
ATTACH;FMTTYPE=image/jpeg:https://ativancouver.ca/wp-content/uploads/2022/11/event-cover-page-scaled.jpg
ORGANIZER;CN="FESTIVISTA":MAILTO:amdainc09@gmail.com
END:VEVENT
END:VCALENDAR