BEGIN:VCALENDAR
VERSION:2.0
PRODID:-//ATI Vancouver - ECPv6.15.16//NONSGML v1.0//EN
CALSCALE:GREGORIAN
METHOD:PUBLISH
X-WR-CALNAME:ATI Vancouver
X-ORIGINAL-URL:https://ativancouver.ca
X-WR-CALDESC:Events for ATI Vancouver
REFRESH-INTERVAL;VALUE=DURATION:PT1H
X-Robots-Tag:noindex
X-PUBLISHED-TTL:PT1H
BEGIN:VTIMEZONE
TZID:America/Vancouver
BEGIN:DAYLIGHT
TZOFFSETFROM:-0800
TZOFFSETTO:-0700
TZNAME:PDT
DTSTART:20220313T100000
END:DAYLIGHT
BEGIN:STANDARD
TZOFFSETFROM:-0700
TZOFFSETTO:-0800
TZNAME:PST
DTSTART:20221106T090000
END:STANDARD
BEGIN:DAYLIGHT
TZOFFSETFROM:-0800
TZOFFSETTO:-0700
TZNAME:PDT
DTSTART:20230312T100000
END:DAYLIGHT
BEGIN:STANDARD
TZOFFSETFROM:-0700
TZOFFSETTO:-0800
TZNAME:PST
DTSTART:20231105T090000
END:STANDARD
BEGIN:DAYLIGHT
TZOFFSETFROM:-0800
TZOFFSETTO:-0700
TZNAME:PDT
DTSTART:20240310T100000
END:DAYLIGHT
BEGIN:STANDARD
TZOFFSETFROM:-0700
TZOFFSETTO:-0800
TZNAME:PST
DTSTART:20241103T090000
END:STANDARD
END:VTIMEZONE
BEGIN:VEVENT
DTSTART;TZID=America/Vancouver:20230514T160000
DTEND;TZID=America/Vancouver:20230514T190000
DTSTAMP:20260425T042436
CREATED:20230330T014238Z
LAST-MODIFIED:20230330T014849Z
UID:4229-1684080000-1684090800@ativancouver.ca
SUMMARY:Kobipokkho by Prabash Bangla
DESCRIPTION:Prabash Bangla Vancouver is excited to announce our upcoming event with Khairul Anam Shakil on May 14th 2023! Come out to attend – you definitely do not want to miss this spectacular event. Stay tuned. \nJoin us for a mesmerizing evening of music featuring the timeless work of two literary giants\, Rabindranath Thakur and Kazi Nazrul Islam. Indulge in the soulful melodies and thought-provoking lyrics that have captured the hearts of millions around the world. \nCome and be a part of a memorable cultural experience celebrating the rich heritage of Bengal. You can purchase the ticket from the link shared.
URL:https://ativancouver.ca/event/kobipokkho-by-prabash-bangla/
LOCATION:Surrey City Hall\, 13450 104 Ave\, Surrey\, BC
CATEGORIES:Community
ATTACH;FMTTYPE=image/jpeg:https://ativancouver.ca/wp-content/uploads/2023/03/68ce8fe8-19db-46e1-9e45-76b638b07065.jpeg
ORGANIZER;CN="Prabash Bangla Vancouver":MAILTO:prabashbangla9@gmail.com
END:VEVENT
END:VCALENDAR