BEGIN:VCALENDAR
VERSION:2.0
PRODID:-//ATI Vancouver - ECPv6.15.16//NONSGML v1.0//EN
CALSCALE:GREGORIAN
METHOD:PUBLISH
X-WR-CALNAME:ATI Vancouver
X-ORIGINAL-URL:https://ativancouver.ca
X-WR-CALDESC:Events for ATI Vancouver
REFRESH-INTERVAL;VALUE=DURATION:PT1H
X-Robots-Tag:noindex
X-PUBLISHED-TTL:PT1H
BEGIN:VTIMEZONE
TZID:America/Vancouver
BEGIN:DAYLIGHT
TZOFFSETFROM:-0800
TZOFFSETTO:-0700
TZNAME:PDT
DTSTART:20230312T100000
END:DAYLIGHT
BEGIN:STANDARD
TZOFFSETFROM:-0700
TZOFFSETTO:-0800
TZNAME:PST
DTSTART:20231105T090000
END:STANDARD
BEGIN:DAYLIGHT
TZOFFSETFROM:-0800
TZOFFSETTO:-0700
TZNAME:PDT
DTSTART:20240310T100000
END:DAYLIGHT
BEGIN:STANDARD
TZOFFSETFROM:-0700
TZOFFSETTO:-0800
TZNAME:PST
DTSTART:20241103T090000
END:STANDARD
BEGIN:DAYLIGHT
TZOFFSETFROM:-0800
TZOFFSETTO:-0700
TZNAME:PDT
DTSTART:20250309T100000
END:DAYLIGHT
BEGIN:STANDARD
TZOFFSETFROM:-0700
TZOFFSETTO:-0800
TZNAME:PST
DTSTART:20251102T090000
END:STANDARD
END:VTIMEZONE
BEGIN:VEVENT
DTSTART;TZID=America/Vancouver:20240430T153000
DTEND;TZID=America/Vancouver:20240430T170000
DTSTAMP:20260419T065436
CREATED:20240415T213013Z
LAST-MODIFIED:20240415T215704Z
UID:7122-1714491000-1714496400@ativancouver.ca
SUMMARY:Katha Corner - Indian Mythology Stories For Kids
DESCRIPTION:Please fill this form to register and join us for a storytelling session on Indian mythology for 5-9 year old’s followed by crafts and snacks. The event will be held on April 30\, 2024 from 3:45 to 5:00 PM at Tommy Douglas library in Burnaby. \nThe agenda of the event is as follows:\n1. Story narrations: 3:50 to 4:15 PM\n2. Arts/Crafts related to the stories: 4:15 to 4:45 PM\n3. Light refreshments: 4:45 to 5:00 PM\n  \nPlease register to secure your spot. If you have any questions\, please reach out to: abinaya.rao27@gmail.com\n\nThis event is part of Connect Fest Burnaby
URL:https://ativancouver.ca/event/katha-corner-indian-mythology-stories-for-kids/
LOCATION:Tommy Douglas Library\, 7311 Kingsway\, Burnaby\, BC\, V5E 1G8\, Canada
ATTACH;FMTTYPE=image/jpeg:https://ativancouver.ca/wp-content/uploads/2024/04/katha-corner-indian-story-telling-in-burnaby.jpg
ORGANIZER;CN="Abhinaya Rao":MAILTO:abinaya.rao27@gmail.com
END:VEVENT
END:VCALENDAR