BEGIN:VCALENDAR
VERSION:2.0
PRODID:-//ATI Vancouver - ECPv6.15.16//NONSGML v1.0//EN
CALSCALE:GREGORIAN
METHOD:PUBLISH
X-WR-CALNAME:ATI Vancouver
X-ORIGINAL-URL:https://ativancouver.ca
X-WR-CALDESC:Events for ATI Vancouver
REFRESH-INTERVAL;VALUE=DURATION:PT1H
X-Robots-Tag:noindex
X-PUBLISHED-TTL:PT1H
BEGIN:VTIMEZONE
TZID:America/Vancouver
BEGIN:DAYLIGHT
TZOFFSETFROM:-0800
TZOFFSETTO:-0700
TZNAME:PDT
DTSTART:20230312T100000
END:DAYLIGHT
BEGIN:STANDARD
TZOFFSETFROM:-0700
TZOFFSETTO:-0800
TZNAME:PST
DTSTART:20231105T090000
END:STANDARD
BEGIN:DAYLIGHT
TZOFFSETFROM:-0800
TZOFFSETTO:-0700
TZNAME:PDT
DTSTART:20240310T100000
END:DAYLIGHT
BEGIN:STANDARD
TZOFFSETFROM:-0700
TZOFFSETTO:-0800
TZNAME:PST
DTSTART:20241103T090000
END:STANDARD
BEGIN:DAYLIGHT
TZOFFSETFROM:-0800
TZOFFSETTO:-0700
TZNAME:PDT
DTSTART:20250309T100000
END:DAYLIGHT
BEGIN:STANDARD
TZOFFSETFROM:-0700
TZOFFSETTO:-0800
TZNAME:PST
DTSTART:20251102T090000
END:STANDARD
END:VTIMEZONE
BEGIN:VEVENT
DTSTART;TZID=America/Vancouver:20240407T113000
DTEND;TZID=America/Vancouver:20240407T153000
DTSTAMP:20260425T052504
CREATED:20240324T064624Z
LAST-MODIFIED:20240325T013320Z
UID:6935-1712489400-1712503800@ativancouver.ca
SUMMARY:Hindu New Year and Baisakhi Celebrations by Hindu Mahila Cultural Society
DESCRIPTION:Kids Carnival & Family Event\nCome celebrate Hindu New Year and Baisakhi with Music\, food\, Games\, Stalls\, Dhol and More with Hindu Mahila Cultural Society of BC! It is a kids friendly family event. Reserve your spot now. \nTickets: Family of 3 including 1 kid: $25\, Family of 4 including 2 kids: $30\, Additional Adult: $15\, Additional Child: $10. Please send your e-transfers to hmahila.society@gmail.com. Proceeds go to Charity \n \nRSVP: \nArchana: 778-892-5007\nDeepa: 778-388-9024\nPriya: 236-867-5216\nPushplata: 778-323-5220\nRita: 778-878-3617\nSandy: 778-389-4872\nShubha: 778-862-4687
URL:https://ativancouver.ca/event/hindu-new-year-and-baisakhi-celebrations-by-hindu-mahila-cultural-society/
LOCATION:Punjab Banquet Hall\, Surrey\, 8166 128 street #215\, Surrey\, British Columbia\, V3W 1R1\, Canada
CATEGORIES:Community,Food & Drink
ATTACH;FMTTYPE=image/jpeg:https://ativancouver.ca/wp-content/uploads/2024/03/hindi-new-year-2024-and-baisakhi-celebrations.jpg
ORGANIZER;CN="Hindu Mahila Cultural Society of BC":MAILTO:hmahila.society@gmail.com
END:VEVENT
END:VCALENDAR