BEGIN:VCALENDAR
VERSION:2.0
PRODID:-//ATI Vancouver - ECPv6.15.16//NONSGML v1.0//EN
CALSCALE:GREGORIAN
METHOD:PUBLISH
X-WR-CALNAME:ATI Vancouver
X-ORIGINAL-URL:https://ativancouver.ca
X-WR-CALDESC:Events for ATI Vancouver
REFRESH-INTERVAL;VALUE=DURATION:PT1H
X-Robots-Tag:noindex
X-PUBLISHED-TTL:PT1H
BEGIN:VTIMEZONE
TZID:America/Vancouver
BEGIN:DAYLIGHT
TZOFFSETFROM:-0800
TZOFFSETTO:-0700
TZNAME:PDT
DTSTART:20220313T100000
END:DAYLIGHT
BEGIN:STANDARD
TZOFFSETFROM:-0700
TZOFFSETTO:-0800
TZNAME:PST
DTSTART:20221106T090000
END:STANDARD
BEGIN:DAYLIGHT
TZOFFSETFROM:-0800
TZOFFSETTO:-0700
TZNAME:PDT
DTSTART:20230312T100000
END:DAYLIGHT
BEGIN:STANDARD
TZOFFSETFROM:-0700
TZOFFSETTO:-0800
TZNAME:PST
DTSTART:20231105T090000
END:STANDARD
BEGIN:DAYLIGHT
TZOFFSETFROM:-0800
TZOFFSETTO:-0700
TZNAME:PDT
DTSTART:20240310T100000
END:DAYLIGHT
BEGIN:STANDARD
TZOFFSETFROM:-0700
TZOFFSETTO:-0800
TZNAME:PST
DTSTART:20241103T090000
END:STANDARD
END:VTIMEZONE
BEGIN:VEVENT
DTSTART;TZID=America/Vancouver:20231028T173000
DTEND;TZID=America/Vancouver:20231028T230000
DTSTAMP:20260425T032417
CREATED:20230904T170318Z
LAST-MODIFIED:20230904T170533Z
UID:5155-1698514200-1698534000@ativancouver.ca
SUMMARY:Hindi Lok Mahotsav 2023
DESCRIPTION:Hindi Literary Society of Canada BC is hosting it’s annual Lok Mahotsav on Saturday\, October 28\, 2023 at Empire Banquet Hall\, Surrey. \nLast year’s event was a great success\, and plans are underway to make this year’s Hindi Lok Mahotsav even better. You’ll enjoy folk dance\, folk songs\, Indian food and various other activities while at the same time to be part of a cultural treat. \nTickets: $40 per person \nContacts: Please contact Acharya Dwivedi 604-507-3099\, Deepa Sharma 778-388-9024\, Seema Malik 604-970-7979\, or Pushplata Sharma 778-323-5220 to purchase tickets or for more information about this cultural event.
URL:https://ativancouver.ca/event/hindi-lok-mahotsav-2023/
LOCATION:Empire Banquet Hall\, Surrey\, 12888 80 Avenue\, Surrey\, British Columbia\, V3W 3A8\, Canada
CATEGORIES:Community,Music,Performing & Visual Arts
ATTACH;FMTTYPE=image/jpeg:https://ativancouver.ca/wp-content/uploads/2023/09/hindi-lok-mahotsav-2023.jpg
ORGANIZER;CN="Hindi Literary Society of Canada%2C BC":MAILTO:hindiliterary.bc@gmail.com
END:VEVENT
END:VCALENDAR