BEGIN:VCALENDAR
VERSION:2.0
PRODID:-//ATI Vancouver - ECPv6.15.16//NONSGML v1.0//EN
CALSCALE:GREGORIAN
METHOD:PUBLISH
X-WR-CALNAME:ATI Vancouver
X-ORIGINAL-URL:https://ativancouver.ca
X-WR-CALDESC:Events for ATI Vancouver
REFRESH-INTERVAL;VALUE=DURATION:PT1H
X-Robots-Tag:noindex
X-PUBLISHED-TTL:PT1H
BEGIN:VTIMEZONE
TZID:America/Vancouver
BEGIN:DAYLIGHT
TZOFFSETFROM:-0800
TZOFFSETTO:-0700
TZNAME:PDT
DTSTART:20220313T100000
END:DAYLIGHT
BEGIN:STANDARD
TZOFFSETFROM:-0700
TZOFFSETTO:-0800
TZNAME:PST
DTSTART:20221106T090000
END:STANDARD
BEGIN:DAYLIGHT
TZOFFSETFROM:-0800
TZOFFSETTO:-0700
TZNAME:PDT
DTSTART:20230312T100000
END:DAYLIGHT
BEGIN:STANDARD
TZOFFSETFROM:-0700
TZOFFSETTO:-0800
TZNAME:PST
DTSTART:20231105T090000
END:STANDARD
BEGIN:DAYLIGHT
TZOFFSETFROM:-0800
TZOFFSETTO:-0700
TZNAME:PDT
DTSTART:20240310T100000
END:DAYLIGHT
BEGIN:STANDARD
TZOFFSETFROM:-0700
TZOFFSETTO:-0800
TZNAME:PST
DTSTART:20241103T090000
END:STANDARD
END:VTIMEZONE
BEGIN:VEVENT
DTSTART;TZID=America/Vancouver:20231202T100000
DTEND;TZID=America/Vancouver:20231202T153000
DTSTAMP:20260419T101128
CREATED:20231120T062030Z
LAST-MODIFIED:20231120T062030Z
UID:5702-1701511200-1701531000@ativancouver.ca
SUMMARY:Health Day by LMBC | Yoga\, Meditation\, Mental Health
DESCRIPTION:LMBCS Health Day 2023 will be an event which is geared towards generic health of community. It will include yoga and meditation session\, mental health discussion\, lunch and fun games. \nProgram Schedule:\nRegistration Starts: 10 AM\nYoga Session Starts: 10:45 AM\nTea Session: 11:30 AM\nMental Health Session: 12 PM\nLunch: 1 PM\nGames & Socialization: 2:30 PM\nPrizes & Closure: 3:15 PM \nGuidelines for the Event:\n1. This event is open to all residents in the Lower Mainland and a free event to attend.\n2. If you are a senior (55 years and above) regardless of your LMBCS membership status\, food is complementary. For other members and non-members\, there is a marginal charge for food\, but one can attend the program free of cost even if they don’t want food.\n3. Booking tickets thorough this website are mandatory for food. Senior members having difficulty to register tickets \, may drop an email to exec@lmbcs.org. \nBuy Tickets
URL:https://ativancouver.ca/event/health-day-by-lmbc-yoga-meditation-mental-health/
LOCATION:bonsor recreation complex\, 6550 Bonsor Ave\, Burnaby\, British Columbia\, V5H3G4\, Canada
CATEGORIES:Health
ATTACH;FMTTYPE=image/jpeg:https://ativancouver.ca/wp-content/uploads/2023/11/lmbcs-health-dayx1200.jpg
END:VEVENT
END:VCALENDAR