BEGIN:VCALENDAR
VERSION:2.0
PRODID:-//ATI Vancouver - ECPv6.15.16//NONSGML v1.0//EN
CALSCALE:GREGORIAN
METHOD:PUBLISH
X-WR-CALNAME:ATI Vancouver
X-ORIGINAL-URL:https://ativancouver.ca
X-WR-CALDESC:Events for ATI Vancouver
REFRESH-INTERVAL;VALUE=DURATION:PT1H
X-Robots-Tag:noindex
X-PUBLISHED-TTL:PT1H
BEGIN:VTIMEZONE
TZID:America/Vancouver
BEGIN:DAYLIGHT
TZOFFSETFROM:-0800
TZOFFSETTO:-0700
TZNAME:PDT
DTSTART:20230312T100000
END:DAYLIGHT
BEGIN:STANDARD
TZOFFSETFROM:-0700
TZOFFSETTO:-0800
TZNAME:PST
DTSTART:20231105T090000
END:STANDARD
BEGIN:DAYLIGHT
TZOFFSETFROM:-0800
TZOFFSETTO:-0700
TZNAME:PDT
DTSTART:20240310T100000
END:DAYLIGHT
BEGIN:STANDARD
TZOFFSETFROM:-0700
TZOFFSETTO:-0800
TZNAME:PST
DTSTART:20241103T090000
END:STANDARD
BEGIN:DAYLIGHT
TZOFFSETFROM:-0800
TZOFFSETTO:-0700
TZNAME:PDT
DTSTART:20250309T100000
END:DAYLIGHT
BEGIN:STANDARD
TZOFFSETFROM:-0700
TZOFFSETTO:-0800
TZNAME:PST
DTSTART:20251102T090000
END:STANDARD
END:VTIMEZONE
BEGIN:VEVENT
DTSTART;TZID=America/Vancouver:20240330T103000
DTEND;TZID=America/Vancouver:20240330T130000
DTSTAMP:20260421T042738
CREATED:20240325T205003Z
LAST-MODIFIED:20240325T205003Z
UID:6958-1711794600-1711803600@ativancouver.ca
SUMMARY:Health Awareness Programme
DESCRIPTION:Health awareness lectures and art exhibition related to heart health.
URL:https://ativancouver.ca/event/health-awareness-programme/
LOCATION:Lakshmi Narayan Mandir\, 8321 140 St\, Surrey\, V3W 5K9\, Canada
CATEGORIES:Community
ATTACH;FMTTYPE=image/jpeg:https://ativancouver.ca/wp-content/uploads/2024/03/433182814_274224165727264_4524754498788571677_n-1.jpg
END:VEVENT
END:VCALENDAR