BEGIN:VCALENDAR
VERSION:2.0
PRODID:-//ATI Vancouver - ECPv6.15.16//NONSGML v1.0//EN
CALSCALE:GREGORIAN
METHOD:PUBLISH
X-WR-CALNAME:ATI Vancouver
X-ORIGINAL-URL:https://ativancouver.ca
X-WR-CALDESC:Events for ATI Vancouver
REFRESH-INTERVAL;VALUE=DURATION:PT1H
X-Robots-Tag:noindex
X-PUBLISHED-TTL:PT1H
BEGIN:VTIMEZONE
TZID:America/Vancouver
BEGIN:DAYLIGHT
TZOFFSETFROM:-0800
TZOFFSETTO:-0700
TZNAME:PDT
DTSTART:20250309T100000
END:DAYLIGHT
BEGIN:STANDARD
TZOFFSETFROM:-0700
TZOFFSETTO:-0800
TZNAME:PST
DTSTART:20251102T090000
END:STANDARD
BEGIN:DAYLIGHT
TZOFFSETFROM:-0800
TZOFFSETTO:-0700
TZNAME:PDT
DTSTART:20260308T100000
END:DAYLIGHT
BEGIN:STANDARD
TZOFFSETFROM:-0700
TZOFFSETTO:-0800
TZNAME:PST
DTSTART:20261101T090000
END:STANDARD
BEGIN:DAYLIGHT
TZOFFSETFROM:-0800
TZOFFSETTO:-0700
TZNAME:PDT
DTSTART:20270314T100000
END:DAYLIGHT
BEGIN:STANDARD
TZOFFSETFROM:-0700
TZOFFSETTO:-0800
TZNAME:PST
DTSTART:20271107T090000
END:STANDARD
END:VTIMEZONE
BEGIN:VEVENT
DTSTART;TZID=America/Vancouver:20260718T115500
DTEND;TZID=America/Vancouver:20260718T230000
DTSTAMP:20260420T025847
CREATED:20260420T063259Z
LAST-MODIFIED:20260420T063551Z
UID:12959-1784375700-1784415600@ativancouver.ca
SUMMARY:Gujarati Mela and Free Dandiya Evening in Surrey
DESCRIPTION:A Gujarati Mela with Free Dandiya event in huge open ground in summer\, First time ever in Metro Vancouver. \nFeaturing: \n\nAuthentic Gujarati Food on purchase\nLots of Business Seminars\nGames\nBhajan Sandhya\nLive Performance and much more…\n\n  \nIt is going to be a full day of culture\, food\, entertainment\, and community hosted by Patel Samaj of B.C. \nFree community event register now.
URL:https://ativancouver.ca/event/gujarati-mela-and-free-dandiya-evening-in-surrey/
LOCATION:Sullivan Gardens\, 15836 56 Ave\, Surrey\, BC\, V3S 2J7
CATEGORIES:Community
ATTACH;FMTTYPE=image/jpeg:https://ativancouver.ca/wp-content/uploads/2026/04/b00f144a-8d0f-4915-a1bd-367d8fe9956e-1.jpeg
END:VEVENT
END:VCALENDAR