BEGIN:VCALENDAR
VERSION:2.0
PRODID:-//ATI Vancouver - ECPv6.15.16//NONSGML v1.0//EN
CALSCALE:GREGORIAN
METHOD:PUBLISH
X-WR-CALNAME:ATI Vancouver
X-ORIGINAL-URL:https://ativancouver.ca
X-WR-CALDESC:Events for ATI Vancouver
REFRESH-INTERVAL;VALUE=DURATION:PT1H
X-Robots-Tag:noindex
X-PUBLISHED-TTL:PT1H
BEGIN:VTIMEZONE
TZID:America/Vancouver
BEGIN:DAYLIGHT
TZOFFSETFROM:-0800
TZOFFSETTO:-0700
TZNAME:PDT
DTSTART:20210314T100000
END:DAYLIGHT
BEGIN:STANDARD
TZOFFSETFROM:-0700
TZOFFSETTO:-0800
TZNAME:PST
DTSTART:20211107T090000
END:STANDARD
BEGIN:DAYLIGHT
TZOFFSETFROM:-0800
TZOFFSETTO:-0700
TZNAME:PDT
DTSTART:20220313T100000
END:DAYLIGHT
BEGIN:STANDARD
TZOFFSETFROM:-0700
TZOFFSETTO:-0800
TZNAME:PST
DTSTART:20221106T090000
END:STANDARD
BEGIN:DAYLIGHT
TZOFFSETFROM:-0800
TZOFFSETTO:-0700
TZNAME:PDT
DTSTART:20230312T100000
END:DAYLIGHT
BEGIN:STANDARD
TZOFFSETFROM:-0700
TZOFFSETTO:-0800
TZNAME:PST
DTSTART:20231105T090000
END:STANDARD
END:VTIMEZONE
BEGIN:VEVENT
DTSTART;TZID=America/Vancouver:20221203T140000
DTEND;TZID=America/Vancouver:20221203T200000
DTSTAMP:20260420T000250
CREATED:20221130T192502Z
LAST-MODIFIED:20221130T192643Z
UID:10000189-1670076000-1670097600@ativancouver.ca
SUMMARY:Gita Conference Dec 3 & 4\, 2022
DESCRIPTION:Schedule for Gita Conference Dec 3 & 4\, 2022:\nSaturday Dec 3\, 2022 : \n2 pm to 3 pm Gita Chanting\n3 pm to 7 pm – Presentations\, Q & A\, Discussions\nSnacks & Bhojan Dinner served \nSunday December 4\, 2022:\n9 am to 12 : 15 pm\nSummary & Explanations of all Chapters\nPreeti Bhojan – Snacks & Lunch served
URL:https://ativancouver.ca/event/gita-conference-dec-3-4-2022/2022-12-03/
LOCATION:Hindu Temple Burnaby\, 5420 Marine Dr\,\, Burnaby\, BC\, V5J 3G8\, Canada
CATEGORIES:Community,Food & Drink,Health
ATTACH;FMTTYPE=image/jpeg:https://ativancouver.ca/wp-content/uploads/2022/11/whatsapp-image-2022-11-30-at-1.56.39-am.jpeg
END:VEVENT
END:VCALENDAR