BEGIN:VCALENDAR
VERSION:2.0
PRODID:-//ATI Vancouver - ECPv6.15.16//NONSGML v1.0//EN
CALSCALE:GREGORIAN
METHOD:PUBLISH
X-WR-CALNAME:ATI Vancouver
X-ORIGINAL-URL:https://ativancouver.ca
X-WR-CALDESC:Events for ATI Vancouver
REFRESH-INTERVAL;VALUE=DURATION:PT1H
X-Robots-Tag:noindex
X-PUBLISHED-TTL:PT1H
BEGIN:VTIMEZONE
TZID:America/Vancouver
BEGIN:DAYLIGHT
TZOFFSETFROM:-0800
TZOFFSETTO:-0700
TZNAME:PDT
DTSTART:20240310T100000
END:DAYLIGHT
BEGIN:STANDARD
TZOFFSETFROM:-0700
TZOFFSETTO:-0800
TZNAME:PST
DTSTART:20241103T090000
END:STANDARD
BEGIN:DAYLIGHT
TZOFFSETFROM:-0800
TZOFFSETTO:-0700
TZNAME:PDT
DTSTART:20250309T100000
END:DAYLIGHT
BEGIN:STANDARD
TZOFFSETFROM:-0700
TZOFFSETTO:-0800
TZNAME:PST
DTSTART:20251102T090000
END:STANDARD
BEGIN:DAYLIGHT
TZOFFSETFROM:-0800
TZOFFSETTO:-0700
TZNAME:PDT
DTSTART:20260308T100000
END:DAYLIGHT
BEGIN:STANDARD
TZOFFSETFROM:-0700
TZOFFSETTO:-0800
TZNAME:PST
DTSTART:20261101T090000
END:STANDARD
END:VTIMEZONE
BEGIN:VEVENT
DTSTART;TZID=America/Vancouver:20251005T163000
DTEND;TZID=America/Vancouver:20251005T200000
DTSTAMP:20260421T101247
CREATED:20250818T061650Z
LAST-MODIFIED:20250818T061713Z
UID:10224-1759681800-1759694400@ativancouver.ca
SUMMARY:Diwali Celebrations 2025 in Burnaby by Vivek Canada
DESCRIPTION:Vivek Canada is celebrating Diwali 2025 in Burnaby at Bonsor Community Complex. \nThis community celebration is hosted by Vivek Canada’s Dawn to Dusk program for youth and seniors. This fun-filled evening will feature appetizers\, a full dinner\, and cultural performances celebrating the rich South Asian heritage in Metro Vancouver. \nEvent Details:\nDate & Time: October 5\, 2025; 4:30pm – 8pm\nLocation: 6550 Bonsor Ave\, Burnaby\, BC.\nTickets: Visit their website to purchase tickets. \nJoin us for an evening of culture\, connection & celebration! \nAll proceeds from the event will directly support Vivek Canada’s ongoing local programming in Metro Vancouver\, as well as vital initiatives in rural regions of Uttar Pradesh\, India. Your participation helps support education\, promote female empowerment\, and foster sustainable development in communities that need it most. \nAll are welcome to take part in this community celebration of Diwali. Purchase your tickets now.
URL:https://ativancouver.ca/event/diwali-celebrations-2025-in-burnaby-by-vivek-canada/
LOCATION:bonsor recreation complex\, 6550 Bonsor Ave\, Burnaby\, British Columbia\, V5H3G4\, Canada
CATEGORIES:Community
ATTACH;FMTTYPE=image/jpeg:https://ativancouver.ca/wp-content/uploads/2025/08/vivek-canada-diwali-celebration-2025.jpg
END:VEVENT
END:VCALENDAR