BEGIN:VCALENDAR
VERSION:2.0
PRODID:-//ATI Vancouver - ECPv6.15.16//NONSGML v1.0//EN
CALSCALE:GREGORIAN
METHOD:PUBLISH
X-WR-CALNAME:ATI Vancouver
X-ORIGINAL-URL:https://ativancouver.ca
X-WR-CALDESC:Events for ATI Vancouver
REFRESH-INTERVAL;VALUE=DURATION:PT1H
X-Robots-Tag:noindex
X-PUBLISHED-TTL:PT1H
BEGIN:VTIMEZONE
TZID:America/Vancouver
BEGIN:DAYLIGHT
TZOFFSETFROM:-0800
TZOFFSETTO:-0700
TZNAME:PDT
DTSTART:20220313T100000
END:DAYLIGHT
BEGIN:STANDARD
TZOFFSETFROM:-0700
TZOFFSETTO:-0800
TZNAME:PST
DTSTART:20221106T090000
END:STANDARD
BEGIN:DAYLIGHT
TZOFFSETFROM:-0800
TZOFFSETTO:-0700
TZNAME:PDT
DTSTART:20230312T100000
END:DAYLIGHT
BEGIN:STANDARD
TZOFFSETFROM:-0700
TZOFFSETTO:-0800
TZNAME:PST
DTSTART:20231105T090000
END:STANDARD
BEGIN:DAYLIGHT
TZOFFSETFROM:-0800
TZOFFSETTO:-0700
TZNAME:PDT
DTSTART:20240310T100000
END:DAYLIGHT
BEGIN:STANDARD
TZOFFSETFROM:-0700
TZOFFSETTO:-0800
TZNAME:PST
DTSTART:20241103T090000
END:STANDARD
END:VTIMEZONE
BEGIN:VEVENT
DTSTART;TZID=America/Vancouver:20230213T190000
DTEND;TZID=America/Vancouver:20230213T203000
DTSTAMP:20260419T153322
CREATED:20230209T012234Z
LAST-MODIFIED:20230209T012234Z
UID:3614-1676314800-1676320200@ativancouver.ca
SUMMARY:Desi Open Mic - Valentine's Special
DESCRIPTION:After a successful open mic event on the 26th of January\, the Gigglez club is back again to spread some love and raise your spirits for this valentines. Book your tickets now to be a part of this exciting desi open mic
URL:https://ativancouver.ca/event/desi-open-mic-valentines-special/
LOCATION:Momo Factory\, Delta Location\, 11956 88 Ave\, Delta\,\, British Columbia\, V4C 3C8\, Canada
CATEGORIES:Food & Drink,Hobbies,Music,Performing & Visual Arts
ATTACH;FMTTYPE=image/jpeg:https://ativancouver.ca/wp-content/uploads/2023/02/whatsapp-image-2023-02-06-at-10.32.41-am.jpeg
ORGANIZER;CN="Gigglez Club":MAILTO:gigglezclubvan@gmail.com
END:VEVENT
END:VCALENDAR