BEGIN:VCALENDAR
VERSION:2.0
PRODID:-//ATI Vancouver - ECPv6.15.16//NONSGML v1.0//EN
CALSCALE:GREGORIAN
METHOD:PUBLISH
X-WR-CALNAME:ATI Vancouver
X-ORIGINAL-URL:https://ativancouver.ca
X-WR-CALDESC:Events for ATI Vancouver
REFRESH-INTERVAL;VALUE=DURATION:PT1H
X-Robots-Tag:noindex
X-PUBLISHED-TTL:PT1H
BEGIN:VTIMEZONE
TZID:America/Vancouver
BEGIN:DAYLIGHT
TZOFFSETFROM:-0800
TZOFFSETTO:-0700
TZNAME:PDT
DTSTART:20220313T100000
END:DAYLIGHT
BEGIN:STANDARD
TZOFFSETFROM:-0700
TZOFFSETTO:-0800
TZNAME:PST
DTSTART:20221106T090000
END:STANDARD
BEGIN:DAYLIGHT
TZOFFSETFROM:-0800
TZOFFSETTO:-0700
TZNAME:PDT
DTSTART:20230312T100000
END:DAYLIGHT
BEGIN:STANDARD
TZOFFSETFROM:-0700
TZOFFSETTO:-0800
TZNAME:PST
DTSTART:20231105T090000
END:STANDARD
BEGIN:DAYLIGHT
TZOFFSETFROM:-0800
TZOFFSETTO:-0700
TZNAME:PDT
DTSTART:20240310T100000
END:DAYLIGHT
BEGIN:STANDARD
TZOFFSETFROM:-0700
TZOFFSETTO:-0800
TZNAME:PST
DTSTART:20241103T090000
END:STANDARD
END:VTIMEZONE
BEGIN:VEVENT
DTSTART;TZID=America/Vancouver:20230114T180000
DTEND;TZID=America/Vancouver:20230114T230000
DTSTAMP:20260425T042436
CREATED:20221025T180936Z
LAST-MODIFIED:20221117T213356Z
UID:2235-1673719200-1673737200@ativancouver.ca
SUMMARY:Desi Business Gala Dinner 2023
DESCRIPTION:CDACC Business Network is ready with our next networking event: Desi Business Networking Gala Dinner 2023\nFeel free to confirm your attendance. Come and network with fellow business owners/service providers: \n\nLive Performances\nVegetarian Dinner Buffet\nCash Bar\nLot of interactive Games\nTeam Building activities\nLive Music & DJ\n\nBring your colleagues\, business owner friends\, family members who are eager to network with more and more people to grow your business to the next level. Sponsors are welcome to support our event. \nDate & Location: January 14\, 2023; 6pm onwards at Royal Palace Banquet Hall\, Burnaby. \nNet proceeds from this event will be donated to Indo African Charitable Trust
URL:https://ativancouver.ca/event/desi-business-gala-dinner-2023/
LOCATION:royal palace banquet hall\, 7845 Edmonds Street\, Burnaby\, British Columbia\, V3N 1B9\, Canada
ATTACH;FMTTYPE=image/jpeg:https://ativancouver.ca/wp-content/uploads/2022/10/First-Flyer.jpeg
END:VEVENT
END:VCALENDAR