BEGIN:VCALENDAR
VERSION:2.0
PRODID:-//ATI Vancouver - ECPv6.15.16//NONSGML v1.0//EN
CALSCALE:GREGORIAN
METHOD:PUBLISH
X-WR-CALNAME:ATI Vancouver
X-ORIGINAL-URL:https://ativancouver.ca
X-WR-CALDESC:Events for ATI Vancouver
REFRESH-INTERVAL;VALUE=DURATION:PT1H
X-Robots-Tag:noindex
X-PUBLISHED-TTL:PT1H
BEGIN:VTIMEZONE
TZID:America/Vancouver
BEGIN:DAYLIGHT
TZOFFSETFROM:-0800
TZOFFSETTO:-0700
TZNAME:PDT
DTSTART:20230312T100000
END:DAYLIGHT
BEGIN:STANDARD
TZOFFSETFROM:-0700
TZOFFSETTO:-0800
TZNAME:PST
DTSTART:20231105T090000
END:STANDARD
BEGIN:DAYLIGHT
TZOFFSETFROM:-0800
TZOFFSETTO:-0700
TZNAME:PDT
DTSTART:20240310T100000
END:DAYLIGHT
BEGIN:STANDARD
TZOFFSETFROM:-0700
TZOFFSETTO:-0800
TZNAME:PST
DTSTART:20241103T090000
END:STANDARD
BEGIN:DAYLIGHT
TZOFFSETFROM:-0800
TZOFFSETTO:-0700
TZNAME:PDT
DTSTART:20250309T100000
END:DAYLIGHT
BEGIN:STANDARD
TZOFFSETFROM:-0700
TZOFFSETTO:-0800
TZNAME:PST
DTSTART:20251102T090000
END:STANDARD
END:VTIMEZONE
BEGIN:VEVENT
DTSTART;TZID=America/Vancouver:20240929T100000
DTEND;TZID=America/Vancouver:20240929T130000
DTSTAMP:20260424T190322
CREATED:20240914T055515Z
LAST-MODIFIED:20240914T055515Z
UID:8303-1727604000-1727614800@ativancouver.ca
SUMMARY:Community Led Engagement Session by ICA Vancouver | South Asian Museum or Cultural Centre
DESCRIPTION:As part of public engagement opportunities provided by the Province\, India Cultural Association (ICA) Of Vancouver is hosting a community engagement sessions in order to take the public inputs & opinion on certain questions related to Museum or Cultural Centre for Canadians of South Asian Heritages in B.C. ICA Vancouver would explore some of the questions via community engagement sessions such as: \n\nWhat should be the name of this museum or cultural centre?\nWhere should it be located?\nWhat kind of space should it be?\n\nThe engagement session is supported by the Province of British Columbia. \nCommunity Engagement Session For South Asian Museum Hosted by ICA Vancouver\, Supported by the Province of B.C.\n 
URL:https://ativancouver.ca/event/community-led-engagement-session-by-ica-vancouver-south-asian-museum-or-cultural-centre/
LOCATION:Bridge & Enrich Lives Society\, 718 E 20th Ave\, Vancouver\, BC\, V5V 1N2
CATEGORIES:Community
ATTACH;FMTTYPE=image/jpeg:https://ativancouver.ca/wp-content/uploads/2024/09/ica-vancouver-community-engagement-session.jpg
ORGANIZER;CN="ICA Vancouver - India Cultural Association":MAILTO:info@icavancouver.ca
END:VEVENT
END:VCALENDAR