BEGIN:VCALENDAR
VERSION:2.0
PRODID:-//ATI Vancouver - ECPv6.15.16//NONSGML v1.0//EN
CALSCALE:GREGORIAN
METHOD:PUBLISH
X-WR-CALNAME:ATI Vancouver
X-ORIGINAL-URL:https://ativancouver.ca
X-WR-CALDESC:Events for ATI Vancouver
REFRESH-INTERVAL;VALUE=DURATION:PT1H
X-Robots-Tag:noindex
X-PUBLISHED-TTL:PT1H
BEGIN:VTIMEZONE
TZID:America/Vancouver
BEGIN:DAYLIGHT
TZOFFSETFROM:-0800
TZOFFSETTO:-0700
TZNAME:PDT
DTSTART:20220313T100000
END:DAYLIGHT
BEGIN:STANDARD
TZOFFSETFROM:-0700
TZOFFSETTO:-0800
TZNAME:PST
DTSTART:20221106T090000
END:STANDARD
BEGIN:DAYLIGHT
TZOFFSETFROM:-0800
TZOFFSETTO:-0700
TZNAME:PDT
DTSTART:20230312T100000
END:DAYLIGHT
BEGIN:STANDARD
TZOFFSETFROM:-0700
TZOFFSETTO:-0800
TZNAME:PST
DTSTART:20231105T090000
END:STANDARD
BEGIN:DAYLIGHT
TZOFFSETFROM:-0800
TZOFFSETTO:-0700
TZNAME:PDT
DTSTART:20240310T100000
END:DAYLIGHT
BEGIN:STANDARD
TZOFFSETFROM:-0700
TZOFFSETTO:-0800
TZNAME:PST
DTSTART:20241103T090000
END:STANDARD
END:VTIMEZONE
BEGIN:VEVENT
DTSTART;TZID=America/Vancouver:20231228T193000
DTEND;TZID=America/Vancouver:20231229T003000
DTSTAMP:20260424T181551
CREATED:20231216T230239Z
LAST-MODIFIED:20231216T230239Z
UID:5825-1703791800-1703809800@ativancouver.ca
SUMMARY:Bollywood DJ Night in Port Coquitlam - Indian Events in Tricities
DESCRIPTION:Lets celebrate the holidays and cheers to the new year with friends and families in the heart of Tricities. Come dance to the highly requested Bollywood songs! \n19+ event\nCover charge $10 per person. E-Transfer 604-780-5192 or 604-773-4566. Food and drinks available at the venue to order. \n  \n  \n 
URL:https://ativancouver.ca/event/bollywood-dj-night-in-port-coquitlam-indian-events-in-tricities/
LOCATION:the Bennette Craft and Kitchen\, 2099 Lougheed Hwy\, Port Coquitlam\, BC\, Canada
CATEGORIES:Music
ATTACH;FMTTYPE=image/jpeg:https://ativancouver.ca/wp-content/uploads/2023/12/2af9d7af-d15f-4745-a1a1-841115e64faa.jpeg
END:VEVENT
END:VCALENDAR