BEGIN:VCALENDAR
VERSION:2.0
PRODID:-//ATI Vancouver - ECPv6.15.16//NONSGML v1.0//EN
CALSCALE:GREGORIAN
METHOD:PUBLISH
X-WR-CALNAME:ATI Vancouver
X-ORIGINAL-URL:https://ativancouver.ca
X-WR-CALDESC:Events for ATI Vancouver
REFRESH-INTERVAL;VALUE=DURATION:PT1H
X-Robots-Tag:noindex
X-PUBLISHED-TTL:PT1H
BEGIN:VTIMEZONE
TZID:America/Vancouver
BEGIN:DAYLIGHT
TZOFFSETFROM:-0800
TZOFFSETTO:-0700
TZNAME:PDT
DTSTART:20240310T100000
END:DAYLIGHT
BEGIN:STANDARD
TZOFFSETFROM:-0700
TZOFFSETTO:-0800
TZNAME:PST
DTSTART:20241103T090000
END:STANDARD
BEGIN:DAYLIGHT
TZOFFSETFROM:-0800
TZOFFSETTO:-0700
TZNAME:PDT
DTSTART:20250309T100000
END:DAYLIGHT
BEGIN:STANDARD
TZOFFSETFROM:-0700
TZOFFSETTO:-0800
TZNAME:PST
DTSTART:20251102T090000
END:STANDARD
BEGIN:DAYLIGHT
TZOFFSETFROM:-0800
TZOFFSETTO:-0700
TZNAME:PDT
DTSTART:20260308T100000
END:DAYLIGHT
BEGIN:STANDARD
TZOFFSETFROM:-0700
TZOFFSETTO:-0800
TZNAME:PST
DTSTART:20261101T090000
END:STANDARD
END:VTIMEZONE
BEGIN:VEVENT
DTSTART;TZID=America/Vancouver:20251023T120000
DTEND;TZID=America/Vancouver:20251023T130000
DTSTAMP:20260424T123935
CREATED:20250915T151747Z
LAST-MODIFIED:20250915T151747Z
UID:11328-1761220800-1761224400@ativancouver.ca
SUMMARY:Bharatanatyam performance with Sujit Vaidya
DESCRIPTION:The Dance Centre’s popular and long-running Discover Dance! noon series begins a new season with a performance by the Vancouver-based Bharatanatyam artist Sujit Vaidya. \nKnown for working both within and beyond traditional Bharatanatyam\, he will share a stimulating presentation of excerpts from dances passed down through the generations\, as well as new creations\, in a conversation between past and present. The show includes an artist talkback. \nBuy Tickets
URL:https://ativancouver.ca/event/bharatanatyam-performance-with-sujit-vaidya/
LOCATION:Scotiabank Dance Centre\, 677 Davie St\, Vancouver\, British Columbia\, V6B 2G6\, Canada
CATEGORIES:Performing & Visual Arts
ATTACH;FMTTYPE=image/jpeg:https://ativancouver.ca/wp-content/uploads/2025/09/sujit-vaidya-poster-1080x1350-1.jpg
ORGANIZER;CN="The Dance Centre":MAILTO:info@thedancecentre.ca
END:VEVENT
END:VCALENDAR