BEGIN:VCALENDAR
VERSION:2.0
PRODID:-//ATI Vancouver - ECPv6.15.16//NONSGML v1.0//EN
CALSCALE:GREGORIAN
METHOD:PUBLISH
X-WR-CALNAME:ATI Vancouver
X-ORIGINAL-URL:https://ativancouver.ca
X-WR-CALDESC:Events for ATI Vancouver
REFRESH-INTERVAL;VALUE=DURATION:PT1H
X-Robots-Tag:noindex
X-PUBLISHED-TTL:PT1H
BEGIN:VTIMEZONE
TZID:America/Vancouver
BEGIN:DAYLIGHT
TZOFFSETFROM:-0800
TZOFFSETTO:-0700
TZNAME:PDT
DTSTART:20240310T100000
END:DAYLIGHT
BEGIN:STANDARD
TZOFFSETFROM:-0700
TZOFFSETTO:-0800
TZNAME:PST
DTSTART:20241103T090000
END:STANDARD
BEGIN:DAYLIGHT
TZOFFSETFROM:-0800
TZOFFSETTO:-0700
TZNAME:PDT
DTSTART:20250309T100000
END:DAYLIGHT
BEGIN:STANDARD
TZOFFSETFROM:-0700
TZOFFSETTO:-0800
TZNAME:PST
DTSTART:20251102T090000
END:STANDARD
BEGIN:DAYLIGHT
TZOFFSETFROM:-0800
TZOFFSETTO:-0700
TZNAME:PDT
DTSTART:20260308T100000
END:DAYLIGHT
BEGIN:STANDARD
TZOFFSETFROM:-0700
TZOFFSETTO:-0800
TZNAME:PST
DTSTART:20261101T090000
END:STANDARD
END:VTIMEZONE
BEGIN:VEVENT
DTSTART;TZID=America/Vancouver:20250921T180000
DTEND;TZID=America/Vancouver:20250921T223000
DTSTAMP:20260424T201420
CREATED:20250822T064534Z
LAST-MODIFIED:20250915T190743Z
UID:10310-1758477600-1758493800@ativancouver.ca
SUMMARY:Bharat Utsav 2025 by BKSP
DESCRIPTION:Bharat Utsav & Diwali Celebration 2025\nBharatiya Kala Evam Sahitya Parishad (BKSP) invites you to an evening full of joy\, culture\, and celebration as we come together for Bharat Utsav and Diwali! \nThis year’s event will also highlight our Bhartiya heritage and positive history\, showcasing the richness of Indian culture and traditions through performances\, exhibits\, and community spirit \nRaffle Prizes to Win: Every Raffle Ticket Brings Relief to India’s Flood Victims. Play\, Win\, and Help — All Raffle Proceeds Aid Flood Relief in India \nDate: Sunday\, September 21\, 2025\nTime: 6 PM onwards\nVenue: Punjab Banquet Hall\, 8166 128 St #215\, Surrey\, BC \nEvent Attractions:\n\nBharat Jano Quiz – win a prize for every correct answer\nExciting Door Prizes & Raffle Draw\nCultural Stalls & Exhibits\nDelicious Dinner\nDJ & Music for a fun-filled evening\nA Unique Saree Show\n\n  \nTickets:\nGeneral: $45\nChildren (5–10 yrs): $30\nChildren below 5 yrs: Free\nTable for 8: $320 \nE-transfer: bkspcanada@gmail.com \nGiving Back:\nPart of the proceeds will go towards BC Wildfire Relief and Royal Columbian Hospital. \nContacts:\nDr. Ajay Garg: 604-362-2095\nSameer Garcha: 778-861-8084\nAnil Singhal: 604-352-1023\nRachna Arora: 604-657-9797 \nJoin us for a memorable evening where culture\, tradition\, food\, music\, and festivities come together in the true spirit of Diwali! \n 
URL:https://ativancouver.ca/event/bharat-utsav-diwali-2025-by-bksp/
LOCATION:Punjab Banquet Hall\, Surrey\, 8166 128 street #215\, Surrey\, British Columbia\, V3W 1R1\, Canada
CATEGORIES:Community
ATTACH;FMTTYPE=image/jpeg:https://ativancouver.ca/wp-content/uploads/2025/08/bharat-utsav-2025-by-bksp.jpg
ORGANIZER;CN="BKSP - Bharatiya Kala Evam Sahitya Parishad":MAILTO:bkspcanada@gmail.com
END:VEVENT
END:VCALENDAR