BEGIN:VCALENDAR
VERSION:2.0
PRODID:-//ATI Vancouver - ECPv6.15.16//NONSGML v1.0//EN
CALSCALE:GREGORIAN
METHOD:PUBLISH
X-WR-CALNAME:ATI Vancouver
X-ORIGINAL-URL:https://ativancouver.ca
X-WR-CALDESC:Events for ATI Vancouver
REFRESH-INTERVAL;VALUE=DURATION:PT1H
X-Robots-Tag:noindex
X-PUBLISHED-TTL:PT1H
BEGIN:VTIMEZONE
TZID:America/Vancouver
BEGIN:DAYLIGHT
TZOFFSETFROM:-0800
TZOFFSETTO:-0700
TZNAME:PDT
DTSTART:20220313T100000
END:DAYLIGHT
BEGIN:STANDARD
TZOFFSETFROM:-0700
TZOFFSETTO:-0800
TZNAME:PST
DTSTART:20221106T090000
END:STANDARD
BEGIN:DAYLIGHT
TZOFFSETFROM:-0800
TZOFFSETTO:-0700
TZNAME:PDT
DTSTART:20230312T100000
END:DAYLIGHT
BEGIN:STANDARD
TZOFFSETFROM:-0700
TZOFFSETTO:-0800
TZNAME:PST
DTSTART:20231105T090000
END:STANDARD
BEGIN:DAYLIGHT
TZOFFSETFROM:-0800
TZOFFSETTO:-0700
TZNAME:PDT
DTSTART:20240310T100000
END:DAYLIGHT
BEGIN:STANDARD
TZOFFSETFROM:-0700
TZOFFSETTO:-0800
TZNAME:PST
DTSTART:20241103T090000
END:STANDARD
END:VTIMEZONE
BEGIN:VEVENT
DTSTART;TZID=America/Vancouver:20230108T080000
DTEND;TZID=America/Vancouver:20230108T090000
DTSTAMP:20260424T141608
CREATED:20221124T015717Z
LAST-MODIFIED:20221124T015947Z
UID:2802-1673164800-1673168400@ativancouver.ca
SUMMARY:Bhagavad Gita Classes
DESCRIPTION:Lord Shri Krishna taught the Bhagavad Gita to Arjuna right before Kaliyuga was about to begin. His teachings are meant for every human being who wishes spiritual evolution ultimately leading to liberation from the pains of this material world\, symbolized by the four fold miseries of janam\, mrityu\, jara\, vyadi. (Birth\, death\, old-age and disease). \nThese Bhagavad Gita classes try to imbibe the original intent of these teachings\, that of being a message meant for regular householders. The content of this holy scripture is not meant to be a subject of scholarly debate or complex renderings. It is meant to be practical\, simple and spiritual. \nBy Radha Rani’s grace and Shri Krishna’s grace\, we recently completed the previous batch of the Bhagavad Gita classes and based on the transformative experience of the students\, I would like to start another batch. These would be weekly sessions lasting ~1 hour each. \nPlease use the Class registration link to confirm your interest.
URL:https://ativancouver.ca/event/bhagavad-gita-classes/
ATTACH;FMTTYPE=image/jpeg:https://ativancouver.ca/wp-content/uploads/2022/11/1645_krishna-hd-wallpaper-03-class.jpg
END:VEVENT
END:VCALENDAR