BEGIN:VCALENDAR
VERSION:2.0
PRODID:-//ATI Vancouver - ECPv6.15.16//NONSGML v1.0//EN
CALSCALE:GREGORIAN
METHOD:PUBLISH
X-WR-CALNAME:ATI Vancouver
X-ORIGINAL-URL:https://ativancouver.ca
X-WR-CALDESC:Events for ATI Vancouver
REFRESH-INTERVAL;VALUE=DURATION:PT1H
X-Robots-Tag:noindex
X-PUBLISHED-TTL:PT1H
BEGIN:VTIMEZONE
TZID:America/Vancouver
BEGIN:DAYLIGHT
TZOFFSETFROM:-0800
TZOFFSETTO:-0700
TZNAME:PDT
DTSTART:20250309T100000
END:DAYLIGHT
BEGIN:STANDARD
TZOFFSETFROM:-0700
TZOFFSETTO:-0800
TZNAME:PST
DTSTART:20251102T090000
END:STANDARD
BEGIN:DAYLIGHT
TZOFFSETFROM:-0800
TZOFFSETTO:-0700
TZNAME:PDT
DTSTART:20260308T100000
END:DAYLIGHT
BEGIN:STANDARD
TZOFFSETFROM:-0700
TZOFFSETTO:-0800
TZNAME:PST
DTSTART:20261101T090000
END:STANDARD
BEGIN:DAYLIGHT
TZOFFSETFROM:-0800
TZOFFSETTO:-0700
TZNAME:PDT
DTSTART:20270314T100000
END:DAYLIGHT
BEGIN:STANDARD
TZOFFSETFROM:-0700
TZOFFSETTO:-0800
TZNAME:PST
DTSTART:20271107T090000
END:STANDARD
END:VTIMEZONE
BEGIN:VEVENT
DTSTART;TZID=America/Vancouver:20260411T170000
DTEND;TZID=America/Vancouver:20260411T220000
DTSTAMP:20260425T072004
CREATED:20260328T070052Z
LAST-MODIFIED:20260328T070052Z
UID:12834-1775926800-1775944800@ativancouver.ca
SUMMARY:Bengali New Year Celebration
DESCRIPTION:Event Name: Bongmilanti Borshoboron Celebration এসো হে বৈশাখ – ১৪৩৩\nDate: April 11\, 2026\nTime: 5 pm PST\nVenue: Fleetwood Community Centre\nAddress: 15996\, 84 Ave Surrey \, BC \, Canada \nFood Options: Authentic Bengali delicacies forming a full course meal served for dinner as part of the ticket purchase. Mouth-watering evening snacks available for purchase from the stall\nActivities: Lokkhichana (Kids talent show) \, Song and Dance performances by various local artist \, Bengali Couple Game show \nClick here to register
URL:https://ativancouver.ca/event/bengali-new-year-celebration/
LOCATION:Fleetwood Community Centre\, 15996 84 Avenue\, Surrey\, BC\, V4N 0W1\, Canada
CATEGORIES:Community,Food & Drink,Music,Performing & Visual Arts
ATTACH;FMTTYPE=image/jpeg:https://ativancouver.ca/wp-content/uploads/2026/03/1000112310.jpg
ORGANIZER;CN="BongMilanti":MAILTO:info@bongmilanti.org
END:VEVENT
END:VCALENDAR